BEGIN:VCALENDAR
VERSION:2.0
PRODID:-//Priority Literacy - ECPv6.15.20//NONSGML v1.0//EN
CALSCALE:GREGORIAN
METHOD:PUBLISH
X-ORIGINAL-URL:https://priorityliteracy.org.uk
X-WR-CALDESC:Events for Priority Literacy
REFRESH-INTERVAL;VALUE=DURATION:PT1H
X-Robots-Tag:noindex
X-PUBLISHED-TTL:PT1H
BEGIN:VTIMEZONE
TZID:UTC
BEGIN:STANDARD
TZOFFSETFROM:+0000
TZOFFSETTO:+0000
TZNAME:UTC
DTSTART:20240101T000000
END:STANDARD
END:VTIMEZONE
BEGIN:VEVENT
DTSTART;TZID=UTC:20250312T080000
DTEND;TZID=UTC:20250312T170000
DTSTAMP:20260422T090207
CREATED:20240820T091542Z
LAST-MODIFIED:20240820T091542Z
UID:1110-1741766400-1741798800@priorityliteracy.org.uk
SUMMARY:KS3/4 Literacy Leadership Network
DESCRIPTION:
URL:https://priorityliteracy.org.uk/event/ks3-4-literacy-leadership-network-7/
CATEGORIES:Nottingham
END:VEVENT
BEGIN:VEVENT
DTSTART;TZID=UTC:20250321T080000
DTEND;TZID=UTC:20250321T170000
DTSTAMP:20260422T090207
CREATED:20241021T122957Z
LAST-MODIFIED:20241021T122957Z
UID:1208-1742544000-1742576400@priorityliteracy.org.uk
SUMMARY:Y2 Moderation Workshop
DESCRIPTION:
URL:https://priorityliteracy.org.uk/event/y2-moderation-workshop/
CATEGORIES:Nottingham
END:VEVENT
BEGIN:VEVENT
DTSTART;TZID=UTC:20250328T080000
DTEND;TZID=UTC:20250328T170000
DTSTAMP:20260422T090207
CREATED:20241021T123020Z
LAST-MODIFIED:20241021T123020Z
UID:1210-1743148800-1743181200@priorityliteracy.org.uk
SUMMARY:Y6 Moderation Workshop
DESCRIPTION:
URL:https://priorityliteracy.org.uk/event/y6-moderation-workshop/
CATEGORIES:Nottingham
END:VEVENT
BEGIN:VEVENT
DTSTART;TZID=UTC:20250331T080000
DTEND;TZID=UTC:20250331T170000
DTSTAMP:20260422T090207
CREATED:20241021T123042Z
LAST-MODIFIED:20241021T123042Z
UID:1212-1743408000-1743440400@priorityliteracy.org.uk
SUMMARY:Y6 Moderation Workshop
DESCRIPTION:
URL:https://priorityliteracy.org.uk/event/y6-moderation-workshop-2/
CATEGORIES:Nottingham
END:VEVENT
BEGIN:VEVENT
DTSTART;TZID=UTC:20250331T080000
DTEND;TZID=UTC:20250331T170000
DTSTAMP:20260422T090207
CREATED:20250312T111321Z
LAST-MODIFIED:20250312T111352Z
UID:1414-1743408000-1743440400@priorityliteracy.org.uk
SUMMARY:Nottingham Transition Information Exchange Event
DESCRIPTION:
URL:https://priorityliteracy.org.uk/event/nottingham-transition-information-exchange-event/
END:VEVENT
END:VCALENDAR