BEGIN:VCALENDAR
VERSION:2.0
PRODID:-//Priority Literacy - ECPv6.15.20//NONSGML v1.0//EN
CALSCALE:GREGORIAN
METHOD:PUBLISH
X-WR-CALNAME:Priority Literacy
X-ORIGINAL-URL:https://priorityliteracy.org.uk
X-WR-CALDESC:Events for Priority Literacy
REFRESH-INTERVAL;VALUE=DURATION:PT1H
X-Robots-Tag:noindex
X-PUBLISHED-TTL:PT1H
BEGIN:VTIMEZONE
TZID:UTC
BEGIN:STANDARD
TZOFFSETFROM:+0000
TZOFFSETTO:+0000
TZNAME:UTC
DTSTART:20230101T000000
END:STANDARD
END:VTIMEZONE
BEGIN:VEVENT
DTSTART;TZID=UTC:20240606T080000
DTEND;TZID=UTC:20240606T170000
DTSTAMP:20260421T141652
CREATED:20240603T084912Z
LAST-MODIFIED:20240603T084912Z
UID:953-1717660800-1717693200@priorityliteracy.org.uk
SUMMARY:Primary Moderation
DESCRIPTION:
URL:https://priorityliteracy.org.uk/event/primary-moderation/
CATEGORIES:Derby
END:VEVENT
BEGIN:VEVENT
DTSTART;TZID=UTC:20240606T084500
DTEND;TZID=UTC:20240606T163000
DTSTAMP:20260421T141652
CREATED:20231115T150833Z
LAST-MODIFIED:20231115T150833Z
UID:343-1717663500-1717691400@priorityliteracy.org.uk
SUMMARY:Year 2 Moderation Session
DESCRIPTION:Derby’s suite of moderation events is designed to provide an opportunity for practitioners to engage in some external moderation of their teacher assessments in writing. The sessions will focus on national materials for enhancing teachers’ understanding of the writing standards in order to make accurate judgements. There is the opportunity to attend these sessions for every year group across the primary setting. At all sessions teachers will have the opportunity to moderate judgements and so will need to bring a range of their pupils’ writing books. The venue for all of the events is Nightingale Hall\, Moor Lane\, Allenton\, Derby DE24 9HY. The cost for all schools is funded by the Nottingham and Derby Literacy Project.
URL:https://priorityliteracy.org.uk/event/year-2-moderation-session/
LOCATION:Nightingale Hall\, Moor Lane\, Allenton\, Derby\, DE24 9HY\, United Kingdom
CATEGORIES:Derby
END:VEVENT
BEGIN:VEVENT
DTSTART;TZID=UTC:20240610T080000
DTEND;TZID=UTC:20240610T170000
DTSTAMP:20260421T141652
CREATED:20240531T134424Z
LAST-MODIFIED:20240531T134424Z
UID:926-1718006400-1718038800@priorityliteracy.org.uk
SUMMARY:Booksparks: Chapter Chasers Author Talk
DESCRIPTION:
URL:https://priorityliteracy.org.uk/event/booksparks-chapter-chasers-author-talk/
CATEGORIES:Both
END:VEVENT
BEGIN:VEVENT
DTSTART;TZID=UTC:20240610T080000
DTEND;TZID=UTC:20240610T170000
DTSTAMP:20260421T141652
CREATED:20240603T090540Z
LAST-MODIFIED:20240603T090540Z
UID:971-1718006400-1718038800@priorityliteracy.org.uk
SUMMARY:KS2 Literacy Leadership Network
DESCRIPTION:
URL:https://priorityliteracy.org.uk/event/ks2-literacy-leadership-network-2/
CATEGORIES:Nottingham
END:VEVENT
BEGIN:VEVENT
DTSTART;TZID=UTC:20240611T080000
DTEND;TZID=UTC:20240611T170000
DTSTAMP:20260421T141652
CREATED:20240603T084813Z
LAST-MODIFIED:20240603T084813Z
UID:951-1718092800-1718125200@priorityliteracy.org.uk
SUMMARY:Communities of Practice
DESCRIPTION:
URL:https://priorityliteracy.org.uk/event/communities-of-practice/
CATEGORIES:Nottingham
END:VEVENT
BEGIN:VEVENT
DTSTART;TZID=UTC:20240612T080000
DTEND;TZID=UTC:20240612T170000
DTSTAMP:20260421T141652
CREATED:20240531T134458Z
LAST-MODIFIED:20240531T134458Z
UID:928-1718179200-1718211600@priorityliteracy.org.uk
SUMMARY:Booksparks: Chapter Chasers Author Talk
DESCRIPTION:
URL:https://priorityliteracy.org.uk/event/booksparks-chapter-chasers-author-talk-2/
CATEGORIES:Both
END:VEVENT
BEGIN:VEVENT
DTSTART;TZID=UTC:20240617T080000
DTEND;TZID=UTC:20240617T170000
DTSTAMP:20260421T141652
CREATED:20240603T083826Z
LAST-MODIFIED:20240603T083826Z
UID:939-1718611200-1718643600@priorityliteracy.org.uk
SUMMARY:Secondary Disciplinary Literacy - Reading for Pleasure
DESCRIPTION:
URL:https://priorityliteracy.org.uk/event/secondary-disciplinary-literacy-reading-for-pleasure/
CATEGORIES:Derby
END:VEVENT
BEGIN:VEVENT
DTSTART;TZID=UTC:20240618T080000
DTEND;TZID=UTC:20240618T170000
DTSTAMP:20260421T141652
CREATED:20240603T084143Z
LAST-MODIFIED:20240603T084143Z
UID:943-1718697600-1718730000@priorityliteracy.org.uk
SUMMARY:KS2 Writing Sequence: Cohort 2 - Using the Teaching Sequence to Support Lower Attainers
DESCRIPTION:
URL:https://priorityliteracy.org.uk/event/ks2-writing-sequence-cohort-2-using-the-teaching-sequence-to-support-lower-attainers/
CATEGORIES:Nottingham
END:VEVENT
BEGIN:VEVENT
DTSTART;TZID=UTC:20240618T080000
DTEND;TZID=UTC:20240618T170000
DTSTAMP:20260421T141652
CREATED:20240603T084711Z
LAST-MODIFIED:20240603T084711Z
UID:949-1718697600-1718730000@priorityliteracy.org.uk
SUMMARY:Secondary Disciplinary Literacy - Reading for Pleasure
DESCRIPTION:
URL:https://priorityliteracy.org.uk/event/secondary-disciplinary-literacy-reading-for-pleasure-2/
CATEGORIES:Nottingham
END:VEVENT
BEGIN:VEVENT
DTSTART;TZID=UTC:20240619T080000
DTEND;TZID=UTC:20240619T170000
DTSTAMP:20260421T141652
CREATED:20240603T083952Z
LAST-MODIFIED:20240603T083952Z
UID:941-1718784000-1718816400@priorityliteracy.org.uk
SUMMARY:KS3/4 Literacy Leadership Network
DESCRIPTION:
URL:https://priorityliteracy.org.uk/event/ks3-4-literacy-leadership-network/
CATEGORIES:Derby
END:VEVENT
BEGIN:VEVENT
DTSTART;TZID=UTC:20240625T080000
DTEND;TZID=UTC:20240625T170000
DTSTAMP:20260421T141652
CREATED:20240603T084323Z
LAST-MODIFIED:20240603T084323Z
UID:945-1719302400-1719334800@priorityliteracy.org.uk
SUMMARY:KS2 Writing Sequence: Cohort 2 - Using the Teaching Sequence to Support EAL
DESCRIPTION:
URL:https://priorityliteracy.org.uk/event/ks2-writing-sequence-cohort-2-using-the-teaching-sequence-to-support-eal/
CATEGORIES:Nottingham
END:VEVENT
BEGIN:VEVENT
DTSTART;TZID=UTC:20240628T080000
DTEND;TZID=UTC:20240628T170000
DTSTAMP:20260421T141652
CREATED:20240531T135146Z
LAST-MODIFIED:20240531T135146Z
UID:934-1719561600-1719594000@priorityliteracy.org.uk
SUMMARY:KS1 Teaching Sequence for Writing
DESCRIPTION:
URL:https://priorityliteracy.org.uk/event/ks1-teaching-sequence-for-writing-2/
CATEGORIES:Nottingham
END:VEVENT
BEGIN:VEVENT
DTSTART;TZID=UTC:20240702T080000
DTEND;TZID=UTC:20240702T170000
DTSTAMP:20260421T141652
CREATED:20240603T085222Z
LAST-MODIFIED:20240603T085222Z
UID:955-1719907200-1719939600@priorityliteracy.org.uk
SUMMARY:(Secondary) Creating an Evidence Informed Reading Strategy (DRS)
DESCRIPTION:
URL:https://priorityliteracy.org.uk/event/secondary-creating-an-evidence-informed-reading-strategy-drs/
CATEGORIES:Both
END:VEVENT
BEGIN:VEVENT
DTSTART;TZID=UTC:20240702T080000
DTEND;TZID=UTC:20240702T170000
DTSTAMP:20260421T141652
CREATED:20240603T090438Z
LAST-MODIFIED:20240603T090438Z
UID:969-1719907200-1719939600@priorityliteracy.org.uk
SUMMARY:KS2 Writing Sequence: Cohort 2 - Using the Teaching Sequence to Support Transition
DESCRIPTION:
URL:https://priorityliteracy.org.uk/event/ks2-writing-sequence-cohort-2-using-the-teaching-sequence-to-support-transition/
CATEGORIES:Nottingham
END:VEVENT
BEGIN:VEVENT
DTSTART;TZID=UTC:20240704T080000
DTEND;TZID=UTC:20240704T170000
DTSTAMP:20260421T141652
CREATED:20240603T085529Z
LAST-MODIFIED:20240603T085529Z
UID:957-1720080000-1720112400@priorityliteracy.org.uk
SUMMARY:KS2 Literacy Leadership Network
DESCRIPTION:
URL:https://priorityliteracy.org.uk/event/ks2-literacy-leadership-network/
CATEGORIES:Derby
END:VEVENT
BEGIN:VEVENT
DTSTART;TZID=UTC:20240708T080000
DTEND;TZID=UTC:20240708T170000
DTSTAMP:20260421T141652
CREATED:20240603T090921Z
LAST-MODIFIED:20240603T090921Z
UID:975-1720425600-1720458000@priorityliteracy.org.uk
SUMMARY:KS3/4 Literacy Leadership Network
DESCRIPTION:
URL:https://priorityliteracy.org.uk/event/ks3-4-literacy-leadership-network-2/
CATEGORIES:Nottingham
END:VEVENT
BEGIN:VEVENT
DTSTART;TZID=UTC:20240708T130000
DTEND;TZID=UTC:20240708T160000
DTSTAMP:20260421T141652
CREATED:20231115T132711Z
LAST-MODIFIED:20231115T135251Z
UID:305-1720443600-1720454400@priorityliteracy.org.uk
SUMMARY:Disciplinary Literacy Secondary CPD: Literacy Leadership Network Meetings (Session 3)
DESCRIPTION:Literacy leadership workshops are aimed at literacy leaders and other senior staff with strategic responsibility for literacy/ curriculum / teaching and learning.
URL:https://priorityliteracy.org.uk/event/disciplinary-literacy-secondary-cpd-literacy-leadership-network-meetings-session-3/
LOCATION:TBC
CATEGORIES:Nottingham
END:VEVENT
BEGIN:VEVENT
DTSTART;TZID=UTC:20240710T080000
DTEND;TZID=UTC:20240710T170000
DTSTAMP:20260421T141652
CREATED:20240603T085719Z
LAST-MODIFIED:20240603T085719Z
UID:959-1720598400-1720630800@priorityliteracy.org.uk
SUMMARY:(Primary) Creating an Evidence Informed Reading Strategy (DRS)
DESCRIPTION:
URL:https://priorityliteracy.org.uk/event/primary-creating-an-evidence-informed-reading-strategy-drs/
CATEGORIES:Both
END:VEVENT
BEGIN:VEVENT
DTSTART;TZID=UTC:20240710T080000
DTEND;TZID=UTC:20240710T170000
DTSTAMP:20260421T141652
CREATED:20240603T085913Z
LAST-MODIFIED:20240603T085913Z
UID:961-1720598400-1720630800@priorityliteracy.org.uk
SUMMARY:(Primary) Creating an Evidence Informed Reading Strategy (DRS)
DESCRIPTION:
URL:https://priorityliteracy.org.uk/event/primary-creating-an-evidence-informed-reading-strategy-drs-2/
CATEGORIES:Both
END:VEVENT
BEGIN:VEVENT
DTSTART;TZID=UTC:20240710T080000
DTEND;TZID=UTC:20240710T170000
DTSTAMP:20260421T141652
CREATED:20240603T090009Z
LAST-MODIFIED:20240603T090009Z
UID:963-1720598400-1720630800@priorityliteracy.org.uk
SUMMARY:KS2 Reading Fluency: Cohort 2
DESCRIPTION:
URL:https://priorityliteracy.org.uk/event/ks2-reading-fluency-cohort-2/
CATEGORIES:Both
END:VEVENT
BEGIN:VEVENT
DTSTART;TZID=UTC:20240710T080000
DTEND;TZID=UTC:20240710T170000
DTSTAMP:20260421T141652
CREATED:20240603T090137Z
LAST-MODIFIED:20240603T090137Z
UID:965-1720598400-1720630800@priorityliteracy.org.uk
SUMMARY:KS3 Reading Fluency
DESCRIPTION:
URL:https://priorityliteracy.org.uk/event/ks3-reading-fluency/
CATEGORIES:Both
END:VEVENT
BEGIN:VEVENT
DTSTART;TZID=UTC:20240711T080000
DTEND;TZID=UTC:20240711T170000
DTSTAMP:20260421T141652
CREATED:20240603T090653Z
LAST-MODIFIED:20240603T090653Z
UID:973-1720684800-1720717200@priorityliteracy.org.uk
SUMMARY:Priority Literacy and Attendance: 2nd Year Project Launch
DESCRIPTION:
URL:https://priorityliteracy.org.uk/event/priority-literacy-and-attendance-2nd-year-project-launch/
CATEGORIES:Nottingham
END:VEVENT
BEGIN:VEVENT
DTSTART;TZID=UTC:20240715T080000
DTEND;TZID=UTC:20240715T170000
DTSTAMP:20260421T141652
CREATED:20240603T091014Z
LAST-MODIFIED:20240603T091014Z
UID:977-1721030400-1721062800@priorityliteracy.org.uk
SUMMARY:Communities of Practice
DESCRIPTION:
URL:https://priorityliteracy.org.uk/event/communities-of-practice-2/
CATEGORIES:Derby
END:VEVENT
BEGIN:VEVENT
DTSTART;TZID=UTC:20240717T080000
DTEND;TZID=UTC:20240717T170000
DTSTAMP:20260421T141652
CREATED:20240603T090220Z
LAST-MODIFIED:20240603T090220Z
UID:967-1721203200-1721235600@priorityliteracy.org.uk
SUMMARY:KS3 Reading Fluency
DESCRIPTION:
URL:https://priorityliteracy.org.uk/event/ks3-reading-fluency-2/
CATEGORIES:Both
END:VEVENT
BEGIN:VEVENT
DTSTART;TZID=UTC:20240918T080000
DTEND;TZID=UTC:20240918T170000
DTSTAMP:20260421T141652
CREATED:20240603T093022Z
LAST-MODIFIED:20240603T093022Z
UID:982-1726646400-1726678800@priorityliteracy.org.uk
SUMMARY:KS1 Teaching Sequence for Writing - All Year Groups
DESCRIPTION:
URL:https://priorityliteracy.org.uk/event/ks1-teaching-sequence-for-writing-all-year-groups/
CATEGORIES:Nottingham
END:VEVENT
BEGIN:VEVENT
DTSTART;TZID=UTC:20240918T080000
DTEND;TZID=UTC:20240918T170000
DTSTAMP:20260421T141652
CREATED:20240603T093209Z
LAST-MODIFIED:20240603T093209Z
UID:984-1726646400-1726678800@priorityliteracy.org.uk
SUMMARY:Priority Literacy: 2nd year Project Launch
DESCRIPTION:
URL:https://priorityliteracy.org.uk/event/priority-literacy-2nd-year-project-launch/
CATEGORIES:Derby
END:VEVENT
BEGIN:VEVENT
DTSTART;TZID=UTC:20240919T080000
DTEND;TZID=UTC:20240919T170000
DTSTAMP:20260421T141652
CREATED:20240603T093302Z
LAST-MODIFIED:20240603T093302Z
UID:986-1726732800-1726765200@priorityliteracy.org.uk
SUMMARY:Prioritising Oracy in the Classroom - Primary
DESCRIPTION:
URL:https://priorityliteracy.org.uk/event/prioritising-oracy-in-the-classroom-primary/
CATEGORIES:Both
END:VEVENT
BEGIN:VEVENT
DTSTART;TZID=UTC:20240919T080000
DTEND;TZID=UTC:20240919T170000
DTSTAMP:20260421T141652
CREATED:20240820T090235Z
LAST-MODIFIED:20240820T090235Z
UID:1096-1726732800-1726765200@priorityliteracy.org.uk
SUMMARY:KS3 Reading Fluency: Cohort 2 Launch
DESCRIPTION:
URL:https://priorityliteracy.org.uk/event/ks3-reading-fluency-cohort-2-launch/
CATEGORIES:Both
END:VEVENT
BEGIN:VEVENT
DTSTART;TZID=UTC:20240926T080000
DTEND;TZID=UTC:20240926T170000
DTSTAMP:20260421T141652
CREATED:20240603T093357Z
LAST-MODIFIED:20240603T093357Z
UID:988-1727337600-1727370000@priorityliteracy.org.uk
SUMMARY:Prioritising Oracy in the Classroom - Secondary
DESCRIPTION:
URL:https://priorityliteracy.org.uk/event/prioritising-oracy-in-the-classroom-secondary/
CATEGORIES:Both
END:VEVENT
BEGIN:VEVENT
DTSTART;TZID=UTC:20240930T080000
DTEND;TZID=UTC:20240930T170000
DTSTAMP:20260421T141652
CREATED:20240603T093631Z
LAST-MODIFIED:20240603T093631Z
UID:990-1727683200-1727715600@priorityliteracy.org.uk
SUMMARY:KS3/4 Literacy Leadership Network
DESCRIPTION:
URL:https://priorityliteracy.org.uk/event/ks3-4-literacy-leadership-network-4/
CATEGORIES:Nottingham
END:VEVENT
END:VCALENDAR