BEGIN:VCALENDAR
VERSION:2.0
PRODID:-//Priority Literacy - ECPv6.15.20//NONSGML v1.0//EN
CALSCALE:GREGORIAN
METHOD:PUBLISH
X-WR-CALNAME:Priority Literacy
X-ORIGINAL-URL:https://priorityliteracy.org.uk
X-WR-CALDESC:Events for Priority Literacy
REFRESH-INTERVAL;VALUE=DURATION:PT1H
X-Robots-Tag:noindex
X-PUBLISHED-TTL:PT1H
BEGIN:VTIMEZONE
TZID:UTC
BEGIN:STANDARD
TZOFFSETFROM:+0000
TZOFFSETTO:+0000
TZNAME:UTC
DTSTART:20220101T000000
END:STANDARD
END:VTIMEZONE
BEGIN:VEVENT
DTSTART;VALUE=DATE:20231018
DTEND;VALUE=DATE:20231019
DTSTAMP:20260421T184103
CREATED:20230901T081934Z
LAST-MODIFIED:20231002T104540Z
UID:163-1697587200-1697673599@priorityliteracy.org.uk
SUMMARY:KS2 Writing Sequence for Heads and English Leads in Nottingham
DESCRIPTION:
URL:https://priorityliteracy.org.uk/event/writing-sequence-for-heads-and-english-leads/
CATEGORIES:Nottingham
END:VEVENT
END:VCALENDAR