BEGIN:VCALENDAR
VERSION:2.0
PRODID:-//Priority Literacy - ECPv6.15.20//NONSGML v1.0//EN
CALSCALE:GREGORIAN
METHOD:PUBLISH
X-ORIGINAL-URL:https://priorityliteracy.org.uk
X-WR-CALDESC:Events for Priority Literacy
REFRESH-INTERVAL;VALUE=DURATION:PT1H
X-Robots-Tag:noindex
X-PUBLISHED-TTL:PT1H
BEGIN:VTIMEZONE
TZID:UTC
BEGIN:STANDARD
TZOFFSETFROM:+0000
TZOFFSETTO:+0000
TZNAME:UTC
DTSTART:20230101T000000
END:STANDARD
END:VTIMEZONE
BEGIN:VEVENT
DTSTART;TZID=UTC:20241016T080000
DTEND;TZID=UTC:20241016T170000
DTSTAMP:20260422T022546
CREATED:20240603T094938Z
LAST-MODIFIED:20240603T094938Z
UID:1011-1729065600-1729098000@priorityliteracy.org.uk
SUMMARY:Secondary Disciplinary Literacy - Disciplinary Literacy in English
DESCRIPTION:
URL:https://priorityliteracy.org.uk/event/secondary-disciplinary-literacy-disciplinary-literacy-in-english-2/
CATEGORIES:Nottingham
END:VEVENT
BEGIN:VEVENT
DTSTART;TZID=UTC:20241017T080000
DTEND;TZID=UTC:20241017T170000
DTSTAMP:20260422T022546
CREATED:20240603T094414Z
LAST-MODIFIED:20240603T094414Z
UID:1005-1729152000-1729184400@priorityliteracy.org.uk
SUMMARY:Secondary Disciplinary Literacy - Disciplinary Literacy in Physical Education
DESCRIPTION:
URL:https://priorityliteracy.org.uk/event/secondary-disciplinary-literacy-disciplinary-literacy-in-physical-education/
CATEGORIES:Derby
END:VEVENT
BEGIN:VEVENT
DTSTART;TZID=UTC:20241022T080000
DTEND;TZID=UTC:20241022T170000
DTSTAMP:20260422T022546
CREATED:20240603T094323Z
LAST-MODIFIED:20240603T094323Z
UID:1003-1729584000-1729616400@priorityliteracy.org.uk
SUMMARY:Secondary Disciplinary Literacy - Disciplinary Literacy in Science
DESCRIPTION:
URL:https://priorityliteracy.org.uk/event/secondary-disciplinary-literacy-disciplinary-literacy-in-science-2/
CATEGORIES:Derby
END:VEVENT
BEGIN:VEVENT
DTSTART;TZID=UTC:20241022T080000
DTEND;TZID=UTC:20241022T170000
DTSTAMP:20260422T022546
CREATED:20240820T090552Z
LAST-MODIFIED:20240820T090552Z
UID:1100-1729584000-1729616400@priorityliteracy.org.uk
SUMMARY:Communities of Practice
DESCRIPTION:
URL:https://priorityliteracy.org.uk/event/communities-of-practice-3/
CATEGORIES:Derby
END:VEVENT
BEGIN:VEVENT
DTSTART;TZID=UTC:20241104T080000
DTEND;TZID=UTC:20241104T170000
DTSTAMP:20260422T022546
CREATED:20240603T095054Z
LAST-MODIFIED:20240603T095054Z
UID:1013-1730707200-1730739600@priorityliteracy.org.uk
SUMMARY:Secondary Disciplinary Literacy - Disciplinary Literacy in Mathematics
DESCRIPTION:
URL:https://priorityliteracy.org.uk/event/secondary-disciplinary-literacy-disciplinary-literacy-in-mathematics/
CATEGORIES:Derby
END:VEVENT
BEGIN:VEVENT
DTSTART;TZID=UTC:20241106T080000
DTEND;TZID=UTC:20241106T170000
DTSTAMP:20260422T022546
CREATED:20240603T095207Z
LAST-MODIFIED:20240603T095207Z
UID:1017-1730880000-1730912400@priorityliteracy.org.uk
SUMMARY:Secondary Disciplinary Literacy - Disciplinary Literacy in Mathematics
DESCRIPTION:
URL:https://priorityliteracy.org.uk/event/secondary-disciplinary-literacy-disciplinary-literacy-in-mathematics-3/
CATEGORIES:Nottingham
END:VEVENT
BEGIN:VEVENT
DTSTART;TZID=UTC:20241107T080000
DTEND;TZID=UTC:20241107T170000
DTSTAMP:20260422T022546
CREATED:20240603T094453Z
LAST-MODIFIED:20240603T094453Z
UID:1007-1730966400-1730998800@priorityliteracy.org.uk
SUMMARY:Secondary Disciplinary Literacy - Disciplinary Literacy in Physical Education
DESCRIPTION:
URL:https://priorityliteracy.org.uk/event/secondary-disciplinary-literacy-disciplinary-literacy-in-physical-education-2/
CATEGORIES:Derby
END:VEVENT
BEGIN:VEVENT
DTSTART;TZID=UTC:20241107T080000
DTEND;TZID=UTC:20241107T170000
DTSTAMP:20260422T022546
CREATED:20240603T095405Z
LAST-MODIFIED:20240603T095405Z
UID:1021-1730966400-1730998800@priorityliteracy.org.uk
SUMMARY:Secondary Disciplinary Literacy- Disciplinary Literacy in Science
DESCRIPTION:
URL:https://priorityliteracy.org.uk/event/secondary-disciplinary-literacy-disciplinary-literacy-in-science-3/
CATEGORIES:Nottingham
END:VEVENT
BEGIN:VEVENT
DTSTART;TZID=UTC:20241107T080000
DTEND;TZID=UTC:20241107T170000
DTSTAMP:20260422T022546
CREATED:20240603T095633Z
LAST-MODIFIED:20240603T095633Z
UID:1025-1730966400-1730998800@priorityliteracy.org.uk
SUMMARY:Secondary Disciplinary Literacy- Disciplinary Literacy in Physical Education
DESCRIPTION:
URL:https://priorityliteracy.org.uk/event/secondary-disciplinary-literacy-disciplinary-literacy-in-physical-education-3/
CATEGORIES:Nottingham
END:VEVENT
BEGIN:VEVENT
DTSTART;TZID=UTC:20241107T080000
DTEND;TZID=UTC:20241107T170000
DTSTAMP:20260422T022546
CREATED:20241021T122220Z
LAST-MODIFIED:20241021T122231Z
UID:1190-1730966400-1730998800@priorityliteracy.org.uk
SUMMARY:KS2 Statutory Assessment for Heads & Y6 teachers
DESCRIPTION:
URL:https://priorityliteracy.org.uk/event/ks2-statutory-assessment-for-heads-y6-teachers/
CATEGORIES:Derby
END:VEVENT
BEGIN:VEVENT
DTSTART;TZID=UTC:20241112T080000
DTEND;TZID=UTC:20241112T170000
DTSTAMP:20260422T022546
CREATED:20240603T095718Z
LAST-MODIFIED:20240603T095718Z
UID:1027-1731398400-1731430800@priorityliteracy.org.uk
SUMMARY:Secondary Disciplinary Literacy- Disciplinary Literacy in Physical Education
DESCRIPTION:
URL:https://priorityliteracy.org.uk/event/secondary-disciplinary-literacy-disciplinary-literacy-in-physical-education-4/
CATEGORIES:Nottingham
END:VEVENT
BEGIN:VEVENT
DTSTART;TZID=UTC:20241114T080000
DTEND;TZID=UTC:20241114T170000
DTSTAMP:20260422T022546
CREATED:20240603T095447Z
LAST-MODIFIED:20240603T095513Z
UID:1023-1731571200-1731603600@priorityliteracy.org.uk
SUMMARY:Secondary Disciplinary Literacy- Disciplinary Literacy in Science
DESCRIPTION:
URL:https://priorityliteracy.org.uk/event/secondary-disciplinary-literacy-disciplinary-literacy-in-science-4/
CATEGORIES:Nottingham
END:VEVENT
BEGIN:VEVENT
DTSTART;TZID=UTC:20241118T080000
DTEND;TZID=UTC:20241118T170000
DTSTAMP:20260422T022546
CREATED:20240603T095125Z
LAST-MODIFIED:20240603T095125Z
UID:1015-1731916800-1731949200@priorityliteracy.org.uk
SUMMARY:Secondary Disciplinary Literacy - Disciplinary Literacy in Mathematics
DESCRIPTION:
URL:https://priorityliteracy.org.uk/event/secondary-disciplinary-literacy-disciplinary-literacy-in-mathematics-2/
CATEGORIES:Derby
END:VEVENT
BEGIN:VEVENT
DTSTART;TZID=UTC:20241119T153000
DTEND;TZID=UTC:20241119T170000
DTSTAMP:20260422T022546
CREATED:20241114T142856Z
LAST-MODIFIED:20241114T142856Z
UID:1240-1732030200-1732035600@priorityliteracy.org.uk
SUMMARY:Developing literacy in secondary physical education: Part 1
DESCRIPTION:
URL:https://priorityliteracy.org.uk/event/developing-literacy-in-secondary-physical-education-part-1/
END:VEVENT
BEGIN:VEVENT
DTSTART;TZID=UTC:20241126T153000
DTEND;TZID=UTC:20241126T170000
DTSTAMP:20260422T022546
CREATED:20241114T142920Z
LAST-MODIFIED:20241114T142920Z
UID:1243-1732635000-1732640400@priorityliteracy.org.uk
SUMMARY:Developing literacy in secondary physical education: Part 2
DESCRIPTION:
URL:https://priorityliteracy.org.uk/event/developing-literacy-in-secondary-physical-education-part-2/
CATEGORIES:Both
END:VEVENT
BEGIN:VEVENT
DTSTART;TZID=UTC:20241127T080000
DTEND;TZID=UTC:20241127T170000
DTSTAMP:20260422T022546
CREATED:20240603T095245Z
LAST-MODIFIED:20240603T095245Z
UID:1019-1732694400-1732726800@priorityliteracy.org.uk
SUMMARY:Secondary Disciplinary Literacy - Disciplinary Literacy in Mathematics
DESCRIPTION:
URL:https://priorityliteracy.org.uk/event/secondary-disciplinary-literacy-disciplinary-literacy-in-mathematics-4/
CATEGORIES:Nottingham
END:VEVENT
BEGIN:VEVENT
DTSTART;TZID=UTC:20241202T133000
DTEND;TZID=UTC:20241202T160000
DTSTAMP:20260422T022546
CREATED:20241114T142654Z
LAST-MODIFIED:20241114T142654Z
UID:1238-1733146200-1733155200@priorityliteracy.org.uk
SUMMARY:Communities of Practice: Modelling to improve writing outcomes
DESCRIPTION:
URL:https://priorityliteracy.org.uk/event/communities-of-practice-modelling-to-improve-writing-outcomes/
CATEGORIES:Both
END:VEVENT
BEGIN:VEVENT
DTSTART;TZID=UTC:20241209T080000
DTEND;TZID=UTC:20241209T170000
DTSTAMP:20260422T022546
CREATED:20240820T090848Z
LAST-MODIFIED:20240820T090848Z
UID:1104-1733731200-1733763600@priorityliteracy.org.uk
SUMMARY:Unlocking Word Power: A Practical Approach to Teaching Vocabulary
DESCRIPTION:
URL:https://priorityliteracy.org.uk/event/unlocking-word-power-a-practical-approach-to-teaching-vocabulary/
CATEGORIES:Both
END:VEVENT
BEGIN:VEVENT
DTSTART;TZID=UTC:20250124T080000
DTEND;TZID=UTC:20250124T170000
DTSTAMP:20260422T022546
CREATED:20241021T122618Z
LAST-MODIFIED:20241021T122618Z
UID:1192-1737705600-1737738000@priorityliteracy.org.uk
SUMMARY:Y6 Moderation CPD Session
DESCRIPTION:
URL:https://priorityliteracy.org.uk/event/y6-moderation-cpd-session/
CATEGORIES:Nottingham
END:VEVENT
BEGIN:VEVENT
DTSTART;TZID=UTC:20250131T080000
DTEND;TZID=UTC:20250131T170000
DTSTAMP:20260422T022546
CREATED:20241021T122735Z
LAST-MODIFIED:20241021T122735Z
UID:1198-1738310400-1738342800@priorityliteracy.org.uk
SUMMARY:Primary Moderation: Y6 Agreement Trialling
DESCRIPTION:
URL:https://priorityliteracy.org.uk/event/primary-moderation-y6-agreement-trialling/
CATEGORIES:Derby
END:VEVENT
BEGIN:VEVENT
DTSTART;TZID=UTC:20250203T080000
DTEND;TZID=UTC:20250203T170000
DTSTAMP:20260422T022546
CREATED:20240603T095931Z
LAST-MODIFIED:20240820T090022Z
UID:1031-1738569600-1738602000@priorityliteracy.org.uk
SUMMARY:KS3/4 Literacy Leadership Network
DESCRIPTION:
URL:https://priorityliteracy.org.uk/event/ks3-4-literacy-leadership-network-6/
CATEGORIES:Nottingham
END:VEVENT
BEGIN:VEVENT
DTSTART;TZID=UTC:20250204T080000
DTEND;TZID=UTC:20250204T170000
DTSTAMP:20260422T022546
CREATED:20241021T122813Z
LAST-MODIFIED:20241021T122813Z
UID:1200-1738656000-1738688400@priorityliteracy.org.uk
SUMMARY:Primary Moderation: Y1 Agreement Trialling
DESCRIPTION:
URL:https://priorityliteracy.org.uk/event/primary-moderation-y1-agreement-trialling/
CATEGORIES:Derby
END:VEVENT
BEGIN:VEVENT
DTSTART;TZID=UTC:20250205T080000
DTEND;TZID=UTC:20250205T170000
DTSTAMP:20260422T022546
CREATED:20240603T095826Z
LAST-MODIFIED:20240820T085923Z
UID:1029-1738742400-1738774800@priorityliteracy.org.uk
SUMMARY:KS3/4 Literacy Leadership Network
DESCRIPTION:
URL:https://priorityliteracy.org.uk/event/ks3-4-literacy-leadership-network-5/
CATEGORIES:Derby
END:VEVENT
BEGIN:VEVENT
DTSTART;TZID=UTC:20250205T080000
DTEND;TZID=UTC:20250205T170000
DTSTAMP:20260422T022546
CREATED:20241021T122845Z
LAST-MODIFIED:20241021T122845Z
UID:1202-1738742400-1738774800@priorityliteracy.org.uk
SUMMARY:Primary Moderation: Y2 Agreement Trialling
DESCRIPTION:
URL:https://priorityliteracy.org.uk/event/primary-moderation-y2-agreement-trialling/
CATEGORIES:Derby
END:VEVENT
BEGIN:VEVENT
DTSTART;TZID=UTC:20250205T080000
DTEND;TZID=UTC:20250205T170000
DTSTAMP:20260422T022546
CREATED:20241021T122907Z
LAST-MODIFIED:20241021T122907Z
UID:1204-1738742400-1738774800@priorityliteracy.org.uk
SUMMARY:Primary Moderation: Y3 Agreement Trialling
DESCRIPTION:
URL:https://priorityliteracy.org.uk/event/primary-moderation-y3-agreement-trialling/
CATEGORIES:Derby
END:VEVENT
BEGIN:VEVENT
DTSTART;TZID=UTC:20250211T153000
DTEND;TZID=UTC:20250211T170000
DTSTAMP:20260422T022546
CREATED:20250127T115331Z
LAST-MODIFIED:20250127T115331Z
UID:1322-1739287800-1739293200@priorityliteracy.org.uk
SUMMARY:Communities of Practice - Virtual Event
DESCRIPTION:
URL:https://priorityliteracy.org.uk/event/communities-of-practice-virtual-event/
CATEGORIES:Both
END:VEVENT
BEGIN:VEVENT
DTSTART;TZID=UTC:20250214T080000
DTEND;TZID=UTC:20250214T170000
DTSTAMP:20260422T022546
CREATED:20240820T090913Z
LAST-MODIFIED:20240820T090913Z
UID:1106-1739520000-1739552400@priorityliteracy.org.uk
SUMMARY:Unlocking Word Power: A Practical Approach to Teaching Vocabulary
DESCRIPTION:
URL:https://priorityliteracy.org.uk/event/unlocking-word-power-a-practical-approach-to-teaching-vocabulary-2/
CATEGORIES:Both
END:VEVENT
BEGIN:VEVENT
DTSTART;TZID=UTC:20250303T153000
DTEND;TZID=UTC:20250303T170000
DTSTAMP:20260422T022546
CREATED:20250127T115352Z
LAST-MODIFIED:20250127T115352Z
UID:1324-1741015800-1741021200@priorityliteracy.org.uk
SUMMARY:Communities of Practice - Virtual Event
DESCRIPTION:
URL:https://priorityliteracy.org.uk/event/communities-of-practice-virtual-event-2/
END:VEVENT
BEGIN:VEVENT
DTSTART;TZID=UTC:20250306T080000
DTEND;TZID=UTC:20250306T170000
DTSTAMP:20260422T022546
CREATED:20241021T122644Z
LAST-MODIFIED:20250127T112530Z
UID:1194-1741248000-1741280400@priorityliteracy.org.uk
SUMMARY:Primary Moderation: Y4 Agreement Trialling
DESCRIPTION:
URL:https://priorityliteracy.org.uk/event/primary-moderation-y4-agreement-trialling/
CATEGORIES:Derby
END:VEVENT
BEGIN:VEVENT
DTSTART;TZID=UTC:20250306T080000
DTEND;TZID=UTC:20250306T170000
DTSTAMP:20260422T022546
CREATED:20241021T122707Z
LAST-MODIFIED:20250127T112558Z
UID:1196-1741248000-1741280400@priorityliteracy.org.uk
SUMMARY:Primary Moderation: Y5 Agreement Trialling
DESCRIPTION:
URL:https://priorityliteracy.org.uk/event/primary-moderation-y5-agreement-trialling/
CATEGORIES:Derby
END:VEVENT
END:VCALENDAR