BEGIN:VCALENDAR
VERSION:2.0
PRODID:-//Priority Literacy - ECPv6.15.20//NONSGML v1.0//EN
CALSCALE:GREGORIAN
METHOD:PUBLISH
X-ORIGINAL-URL:https://priorityliteracy.org.uk
X-WR-CALDESC:Events for Priority Literacy
REFRESH-INTERVAL;VALUE=DURATION:PT1H
X-Robots-Tag:noindex
X-PUBLISHED-TTL:PT1H
BEGIN:VTIMEZONE
TZID:UTC
BEGIN:STANDARD
TZOFFSETFROM:+0000
TZOFFSETTO:+0000
TZNAME:UTC
DTSTART:20220101T000000
END:STANDARD
END:VTIMEZONE
BEGIN:VEVENT
DTSTART;TZID=UTC:20231206T083000
DTEND;TZID=UTC:20231206T143000
DTSTAMP:20260421T171028
CREATED:20231115T125835Z
LAST-MODIFIED:20231115T125835Z
UID:292-1701851400-1701873000@priorityliteracy.org.uk
SUMMARY:Literacy Specialists Training
DESCRIPTION:
URL:https://priorityliteracy.org.uk/event/literacy-specialists-training/
END:VEVENT
BEGIN:VEVENT
DTSTART;TZID=UTC:20231206T090000
DTEND;TZID=UTC:20231206T160000
DTSTAMP:20260421T171028
CREATED:20231115T142706Z
LAST-MODIFIED:20231115T142745Z
UID:327-1701853200-1701878400@priorityliteracy.org.uk
SUMMARY:The Teaching Sequence for Writing: KS2 Teachers (Year 6)
DESCRIPTION:Teaching successful writing is not a mystery\nThere is a clear sequence to the craft of teaching\nof writing that can result in quality outcomes\nevery time\nDuring these session practitioners will\nbe shown how to develop a sequence from the\ninception of an idea\, to the development of\nvocabulary and the teaching of grammar that\nleads to effective planning and writing.
URL:https://priorityliteracy.org.uk/event/the-teaching-sequence-for-writing-ks2-teachers-year-6/
LOCATION:Flying High Trust\, 2a Vickery Way\, Nottingham\, NG9 6RY
CATEGORIES:Nottingham
END:VEVENT
BEGIN:VEVENT
DTSTART;TZID=UTC:20231211T154500
DTEND;TZID=UTC:20231211T163000
DTSTAMP:20260421T171028
CREATED:20231115T130138Z
LAST-MODIFIED:20231115T130138Z
UID:296-1702309500-1702312200@priorityliteracy.org.uk
SUMMARY:Communities of Practice Launch
DESCRIPTION:
URL:https://priorityliteracy.org.uk/event/communities-of-practice-launch/
END:VEVENT
BEGIN:VEVENT
DTSTART;TZID=UTC:20231212T104500
DTEND;TZID=UTC:20231212T114500
DTSTAMP:20260421T171028
CREATED:20231201T140528Z
LAST-MODIFIED:20231201T140528Z
UID:375-1702377900-1702381500@priorityliteracy.org.uk
SUMMARY:Nottingham Year 6-7 Transition Portal - Training Sessions
DESCRIPTION:To help you in using the portal\, we would like to offer the opportunity for you to take part in one of our live\, online\,training sessions. We highly recommend that at least one member of the team from each school attends a training session to ensure that you feel confident in using the Transition Portal\, understand the Transition Portal process and to allow you to benefit from the opportunity to ask questions about the portal.
URL:https://priorityliteracy.org.uk/event/nottingham-year-6-7-transition-portal-training-sessions/
CATEGORIES:Nottingham
END:VEVENT
BEGIN:VEVENT
DTSTART;TZID=UTC:20231213T153500
DTEND;TZID=UTC:20231213T161500
DTSTAMP:20260421T171028
CREATED:20231115T130342Z
LAST-MODIFIED:20231115T130342Z
UID:299-1702481700-1702484100@priorityliteracy.org.uk
SUMMARY:KS2 Literacy and Cross Phase Reading Online Launch Event
DESCRIPTION:
URL:https://priorityliteracy.org.uk/event/ks2-literacy-and-cross-phase-reading-online-launch-event/
END:VEVENT
BEGIN:VEVENT
DTSTART;TZID=UTC:20231214T140000
DTEND;TZID=UTC:20231214T150000
DTSTAMP:20260421T171028
CREATED:20231201T140738Z
LAST-MODIFIED:20231201T140738Z
UID:377-1702562400-1702566000@priorityliteracy.org.uk
SUMMARY:Nottingham Year 6-7 Transition Portal : Training Sessions
DESCRIPTION:The online Transition Portal provides an easy-to-use\, secure\, means of transferring key information from a pupil’s primary school to their new destination secondary school. The portal highlights pupils who may need additional support during transition\, supports effective transition planning and ensures that every pupil is well known by staff at their new school. The portal is a fully-funded opportunity for Nottingham City schools and is proven to reduce practitioner workload\, enhancing the transition process for schools and pupils alike.\nWe are offering launch events on a range of dates — we hope you can attend one that meets your needs. The sessions will take place online and will last for 1 hour.
URL:https://priorityliteracy.org.uk/event/nottingham-year-6-7-transition-portal-training-sessions-2/
END:VEVENT
END:VCALENDAR