BEGIN:VCALENDAR
VERSION:2.0
PRODID:-//Priority Literacy - ECPv6.15.20//NONSGML v1.0//EN
CALSCALE:GREGORIAN
METHOD:PUBLISH
X-WR-CALNAME:Priority Literacy
X-ORIGINAL-URL:https://priorityliteracy.org.uk
X-WR-CALDESC:Events for Priority Literacy
REFRESH-INTERVAL;VALUE=DURATION:PT1H
X-Robots-Tag:noindex
X-PUBLISHED-TTL:PT1H
BEGIN:VTIMEZONE
TZID:UTC
BEGIN:STANDARD
TZOFFSETFROM:+0000
TZOFFSETTO:+0000
TZNAME:UTC
DTSTART:20230101T000000
END:STANDARD
END:VTIMEZONE
BEGIN:VEVENT
DTSTART;TZID=UTC:20240501T093000
DTEND;TZID=UTC:20240502T143000
DTSTAMP:20260421T094032
CREATED:20240206T115030Z
LAST-MODIFIED:20240206T115030Z
UID:482-1714555800-1714660200@priorityliteracy.org.uk
SUMMARY:Moderation and Exemplification of Standards
DESCRIPTION:9.30am – 2.30pm on Wednesday 1st May and Thursday 2nd May \nVENUE: TBC \nThis is for Senior Leaders\, SENCos and/or Yr6 teachers to develop an understanding of expectations and outcomes for those pupils working at a Pre-key stage standard.
URL:https://priorityliteracy.org.uk/event/moderation-and-exemplification-of-standards/
END:VEVENT
BEGIN:VEVENT
DTSTART;TZID=UTC:20240502T131500
DTEND;TZID=UTC:20240502T160000
DTSTAMP:20260421T094032
CREATED:20231120T140951Z
LAST-MODIFIED:20231120T140951Z
UID:358-1714655700-1714665600@priorityliteracy.org.uk
SUMMARY:Year 1 Moderation Workshop
DESCRIPTION:Nottingham’s suite of moderation events is designed to provide an opportunity for\npractitioners to engage in some external moderation of their teacher assessments\nin writing. The January sessions for Y2 and Y6 offer CPD using national materials\nfor enhancing teachers’ understanding of the writing standards in order to make\naccurate judgements. At all sessions teachers will have the opportunity to\nmoderate judgements and so will need to bring a range of their pupils’ writing\nbooks (below\, at and above the expected standard). The provider is Primary\nAdviser & Moderation Manager\, Jane Gill: jane.gill@nottinghamcity.gov.uk The cost\nfor all schools is funded by the Priority Literacy Project.
URL:https://priorityliteracy.org.uk/event/year-1-moderation-workshop-2/
LOCATION:Nottingham Nursery School and Training Centre\, Forster Street\, Nottingham\, NG7 3DF\, United Kingdom
CATEGORIES:Nottingham
END:VEVENT
BEGIN:VEVENT
DTSTART;TZID=UTC:20240503T131500
DTEND;TZID=UTC:20240503T160000
DTSTAMP:20260421T094032
CREATED:20231120T141200Z
LAST-MODIFIED:20231120T141200Z
UID:360-1714742100-1714752000@priorityliteracy.org.uk
SUMMARY:Year 5 Moderation Workshop
DESCRIPTION:Nottingham’s suite of moderation events is designed to provide an opportunity for\npractitioners to engage in some external moderation of their teacher assessments\nin writing. The January sessions for Y2 and Y6 offer CPD using national materials\nfor enhancing teachers’ understanding of the writing standards in order to make\naccurate judgements. At all sessions teachers will have the opportunity to\nmoderate judgements and so will need to bring a range of their pupils’ writing\nbooks (below\, at and above the expected standard). The provider is Primary\nAdviser & Moderation Manager\, Jane Gill: jane.gill@nottinghamcity.gov.uk The cost\nfor all schools is funded by the Priority Literacy Project.
URL:https://priorityliteracy.org.uk/event/year-5-moderation-workshop-2/
CATEGORIES:Nottingham
END:VEVENT
END:VCALENDAR